BEGIN:VCALENDAR
VERSION:2.0
PRODID:-//Al-Anon/Alateen Ventura County - ECPv6.15.20//NONSGML v1.0//EN
CALSCALE:GREGORIAN
METHOD:PUBLISH
X-WR-CALNAME:Al-Anon/Alateen Ventura County
X-ORIGINAL-URL:https://alanonventura.org
X-WR-CALDESC:Events for Al-Anon/Alateen Ventura County
REFRESH-INTERVAL;VALUE=DURATION:PT1H
X-Robots-Tag:noindex
X-PUBLISHED-TTL:PT1H
BEGIN:VTIMEZONE
TZID:America/Los_Angeles
BEGIN:DAYLIGHT
TZOFFSETFROM:-0800
TZOFFSETTO:-0700
TZNAME:PDT
DTSTART:20230312T100000
END:DAYLIGHT
BEGIN:STANDARD
TZOFFSETFROM:-0700
TZOFFSETTO:-0800
TZNAME:PST
DTSTART:20231105T090000
END:STANDARD
BEGIN:DAYLIGHT
TZOFFSETFROM:-0800
TZOFFSETTO:-0700
TZNAME:PDT
DTSTART:20240310T100000
END:DAYLIGHT
BEGIN:STANDARD
TZOFFSETFROM:-0700
TZOFFSETTO:-0800
TZNAME:PST
DTSTART:20241103T090000
END:STANDARD
BEGIN:DAYLIGHT
TZOFFSETFROM:-0800
TZOFFSETTO:-0700
TZNAME:PDT
DTSTART:20250309T100000
END:DAYLIGHT
BEGIN:STANDARD
TZOFFSETFROM:-0700
TZOFFSETTO:-0800
TZNAME:PST
DTSTART:20251102T090000
END:STANDARD
END:VTIMEZONE
BEGIN:VEVENT
DTSTART;TZID=America/Los_Angeles:20240406T113000
DTEND;TZID=America/Los_Angeles:20240406T143000
DTSTAMP:20260424T075112
CREATED:20240306T033609Z
LAST-MODIFIED:20240306T034403Z
UID:5053-1712403000-1712413800@alanonventura.org
SUMMARY:Spring Fling
DESCRIPTION:Serenity by the Sea 2024 \nAl-Anon Fundraiser with AA Participation \nTo buy tickets goto:\nhttps://sbts2024springfling.rsvpify.com \nDownload Flyer
URL:https://alanonventura.org/event/spring-fling/
LOCATION:Mission Church\, 5353 Walker Street\, Ventura\, CA\, United States
ATTACH;FMTTYPE=image/jpeg:https://alanonventura.org/wp-content/uploads/2024/03/SpringFling-Flyer.jpg
END:VEVENT
BEGIN:VEVENT
DTSTART;TZID=America/Los_Angeles:20240311T173000
DTEND;TZID=America/Los_Angeles:20240311T203000
DTSTAMP:20260424T075112
CREATED:20240214T205555Z
LAST-MODIFIED:20240214T205555Z
UID:2867-1710178200-1710189000@alanonventura.org
SUMMARY:Camarillo Monday Men's AFG
DESCRIPTION:17th Anniversary Party \nLadies Welcome \nDownload Flyer
URL:https://alanonventura.org/event/camarillo-monday-mens-afg/
ATTACH;FMTTYPE=image/jpeg:https://alanonventura.org/wp-content/uploads/2024/02/17th-Anniversary-Party-flyer.jpg
END:VEVENT
BEGIN:VEVENT
DTSTART;TZID=America/Los_Angeles:20240309T090000
DTEND;TZID=America/Los_Angeles:20240310T153000
DTSTAMP:20260424T075112
CREATED:20240201T054516Z
LAST-MODIFIED:20240201T063936Z
UID:1988-1709974800-1710084600@alanonventura.org
SUMMARY:44th Annual VCAAC Logo Contest
DESCRIPTION:This Year’s Theme: A Common Solution \nDownload Flyer
URL:https://alanonventura.org/event/vcaac-logo-contest/
ATTACH;FMTTYPE=image/jpeg:https://alanonventura.org/wp-content/uploads/2024/01/vcaac-logo-contest.jpeg
END:VEVENT
BEGIN:VEVENT
DTSTART;TZID=America/Los_Angeles:20240302T180000
DTEND;TZID=America/Los_Angeles:20240302T210000
DTSTAMP:20260424T075112
CREATED:20240214T205245Z
LAST-MODIFIED:20240214T205354Z
UID:2859-1709402400-1709413200@alanonventura.org
SUMMARY:Serenity By the Sea: Bingo Night
DESCRIPTION:Serenity by the Sea 2024 presents with Al-Anon participation \nBingo Night.  $20 Adults\, Kids entry is free\, free Coffee \nDownload Flyer
URL:https://alanonventura.org/event/serenity-by-the-sea-bingo-night/
ATTACH;FMTTYPE=image/jpeg:https://alanonventura.org/wp-content/uploads/2024/02/SBTS-Bingo-Night-2024.jpg
END:VEVENT
BEGIN:VEVENT
DTSTART;TZID=America/Los_Angeles:20240206T160000
DTEND;TZID=America/Los_Angeles:20240208T120000
DTSTAMP:20260424T075112
CREATED:20240524T035728Z
LAST-MODIFIED:20240613T033737Z
UID:9193-1707235200-1707393600@alanonventura.org
SUMMARY:Ventura County AA Convention (VCAAC) with Al-Anon Participation – Register
DESCRIPTION:Come Join Us in Westlake Village For an Inspiring Weekend \nRegister Today at VCAAC.org\nSeptember 6-8\, 2024\nHyatt Regency \nDon’t Miss The Miracle! \nDownload Flyer: Click Here!
URL:https://alanonventura.org/event/ventura-county-aa-convention-vcaac-with-al-anon-participation-register/
ATTACH;FMTTYPE=image/png:https://alanonventura.org/wp-content/uploads/2024/05/Registernow1000.png
END:VEVENT
END:VCALENDAR