BEGIN:VCALENDAR
VERSION:2.0
PRODID:-//Al-Anon/Alateen Ventura County - ECPv6.15.20//NONSGML v1.0//EN
CALSCALE:GREGORIAN
METHOD:PUBLISH
X-WR-CALNAME:Al-Anon/Alateen Ventura County
X-ORIGINAL-URL:https://alanonventura.org
X-WR-CALDESC:Events for Al-Anon/Alateen Ventura County
REFRESH-INTERVAL;VALUE=DURATION:PT1H
X-Robots-Tag:noindex
X-PUBLISHED-TTL:PT1H
BEGIN:VTIMEZONE
TZID:America/Los_Angeles
BEGIN:DAYLIGHT
TZOFFSETFROM:-0800
TZOFFSETTO:-0700
TZNAME:PDT
DTSTART:20230312T100000
END:DAYLIGHT
BEGIN:STANDARD
TZOFFSETFROM:-0700
TZOFFSETTO:-0800
TZNAME:PST
DTSTART:20231105T090000
END:STANDARD
BEGIN:DAYLIGHT
TZOFFSETFROM:-0800
TZOFFSETTO:-0700
TZNAME:PDT
DTSTART:20240310T100000
END:DAYLIGHT
BEGIN:STANDARD
TZOFFSETFROM:-0700
TZOFFSETTO:-0800
TZNAME:PST
DTSTART:20241103T090000
END:STANDARD
BEGIN:DAYLIGHT
TZOFFSETFROM:-0800
TZOFFSETTO:-0700
TZNAME:PDT
DTSTART:20250309T100000
END:DAYLIGHT
BEGIN:STANDARD
TZOFFSETFROM:-0700
TZOFFSETTO:-0800
TZNAME:PST
DTSTART:20251102T090000
END:STANDARD
BEGIN:DAYLIGHT
TZOFFSETFROM:-0800
TZOFFSETTO:-0700
TZNAME:PDT
DTSTART:20260308T100000
END:DAYLIGHT
BEGIN:STANDARD
TZOFFSETFROM:-0700
TZOFFSETTO:-0800
TZNAME:PST
DTSTART:20261101T090000
END:STANDARD
END:VTIMEZONE
BEGIN:VEVENT
DTSTART;TZID=America/Los_Angeles:20250124T080000
DTEND;TZID=America/Los_Angeles:20250126T170000
DTSTAMP:20260423T164816
CREATED:20241017T001052Z
LAST-MODIFIED:20241017T001052Z
UID:9457-1737705600-1737910800@alanonventura.org
SUMMARY:49th Annual San Fernando Valley AA Convention
DESCRIPTION:49th Annual San Fernando Valley AA Convention\nWith Al-Anon and Alateen Participation (Alateen pending)\nWarner Center Marriott\nWoodland Hills\, CA\nFriday\, Saturday & Sunday\nJanuary 24\, 25 & 26\, 2025\nIn-Person\n\nWe warmly welcome you to the 49th Annual San Fernando Valley AA Convention with Al-Anon and Alateen participation (Alateen pending)\, held at the Warner Center Marriott\, carrying the message of Alcoholics Anonymous to the members of AA\, Al-Anon and Alateen (Alateen pending).  Our theme this year is: SOMETIMES QUICKLY\, SOMETIMES SLOWLY.  The theme was selected by our dedicated Planning Committee and we are looking forward to sharing with you the wonderful events we have in store for you this year. \nPlease join us on January 24th\, 25th and 26th\, for a weekend filled with recovery and fellowship!! \nhttps://sfvaac.org/register \n\nREGISTER HERE
URL:https://alanonventura.org/event/49th-annual-san-fernando-valley-aa-convention/
LOCATION:Warner Center Marriott\, 21850 W Oxnard St\, Woodland Hills\, CA\, 91367\, United States
ATTACH;FMTTYPE=image/jpeg:https://alanonventura.org/wp-content/uploads/2024/10/49th-Annual.jpg
ORGANIZER;CN="San Fernando Valley AA":MAILTO:info@sfvaac.org
END:VEVENT
BEGIN:VEVENT
DTSTART;TZID=America/Los_Angeles:20250112T140000
DTEND;TZID=America/Los_Angeles:20250112T150000
DTSTAMP:20260423T164816
CREATED:20241220T041031Z
LAST-MODIFIED:20241220T041133Z
UID:9549-1736690400-1736694000@alanonventura.org
SUMMARY:AL-ANON PLANNING COMMITTEE – Kick-Off Meeting!
DESCRIPTION:Save the Date \n2025 VCAAC\nAL-ANON PLANNING COMMITTEE \nKick-Off Meeting!\nSunday\, January 12\, 2025\nThe Buck\n321 N. Aviador Street\, Suite 111\nCamarillo\, CA 93010\n2–3:00 PM \nVOLUNTEERS NEEDED!\nPutting together our amazing convention requires a full slate of volunteers. Won’t you join us? \nFor more info\, contact Leigh H.:\nleigh.haikin@gmail.com\n818.522.5211 \n  \nDownload the Flyer: Click Here!
URL:https://alanonventura.org/event/al-anon-planning-committee-kick-off-meeting/
ATTACH;FMTTYPE=image/jpeg:https://alanonventura.org/wp-content/uploads/2024/12/2025-VCAAC-Kick-Off-e1734667969286.jpg
END:VEVENT
BEGIN:VEVENT
DTSTART;TZID=America/Los_Angeles:20241231T180000
DTEND;TZID=America/Los_Angeles:20241231T220000
DTSTAMP:20260423T164816
CREATED:20241212T192142Z
LAST-MODIFIED:20241213T061241Z
UID:9516-1735668000-1735682400@alanonventura.org
SUMMARY:New Year's – In New York!
DESCRIPTION:SERENITY BY THE SEA W/\nALANON PARTICIPATION \nPRESENTS: \nNew Year’s\nIn\nNew York\n2025 \nMission Church\n5353 WALKER ST\, VENTURA\, 6 pm to 10 pm\nAA/Al-Anon Speaker\, DJ & Dancing\nBall Drop 9 pm\, Opportunity Drawing\n$20 PRE-REGISTRATION (ENDS DEC 15TH)\n$25 AT THE DOOR\nWWW.VCAAROUNDUP.ORG
URL:https://alanonventura.org/event/new-years-in-new-york/
ATTACH;FMTTYPE=image/png:https://alanonventura.org/wp-content/uploads/2024/12/NewYearNewYork.png
END:VEVENT
BEGIN:VEVENT
DTSTART;TZID=America/Los_Angeles:20241217T190000
DTEND;TZID=America/Los_Angeles:20241217T213000
DTSTAMP:20260423T164816
CREATED:20241209T032738Z
LAST-MODIFIED:20241216T202950Z
UID:9508-1734462000-1734471000@alanonventura.org
SUMMARY:Holiday Party & Tuesday Night Al-Anon Meeting
DESCRIPTION:PLEASE JOIN US FOR A HOLIDAY PARTY &  \nTHE TUESDAY NIGHT AL-ANON MEETING  \nDECEMBER 17TH\, 2024 \nSTARTS AT 7:00 PM\, MEETING TO FOLLOW\nSIMI CHURCH OF CHRIST – 1554 SINALOA RD. \nPIZZA\, DESSERT AND SNACKS\nPROVIDED \nLet’s celebrate together!
URL:https://alanonventura.org/event/holiday-party-tuesday-night-al-anon-meeting/
ATTACH;FMTTYPE=image/png:https://alanonventura.org/wp-content/uploads/2024/12/HolidayParty12-2024.png
END:VEVENT
BEGIN:VEVENT
DTSTART;TZID=America/Los_Angeles:20241116T180000
DTEND;TZID=America/Los_Angeles:20241116T210000
DTSTAMP:20260423T164816
CREATED:20241111T161634Z
LAST-MODIFIED:20241111T161634Z
UID:9477-1731780000-1731790800@alanonventura.org
SUMMARY:Procrastinator's Ball – Halloween Dance
DESCRIPTION:Serenity by the Sea Presents with Al-Anon Participation\nNovember 16th\, 6-9 pm \nProcrastinator’s Ball\nHalloween Dance \nMission Church\n5353 Walker St\nVentura\, CA 93003 \nAdults $20 – Kids Free \nCostume Contests\, 50/50 Drawing\, Snacks/Drinks (additional cost)\nFabulous Prizes\, including free admission to the New Year’s Eve Event.
URL:https://alanonventura.org/event/procrastinators-ball-halloween-dance/
ATTACH;FMTTYPE=image/png:https://alanonventura.org/wp-content/uploads/2024/11/111624FlyerLoRes.png
END:VEVENT
BEGIN:VEVENT
DTSTART;TZID=America/Los_Angeles:20241021T190000
DTEND;TZID=America/Los_Angeles:20241021T203000
DTSTAMP:20260423T164816
CREATED:20240929T225628Z
LAST-MODIFIED:20241016T210737Z
UID:9406-1729537200-1729542600@alanonventura.org
SUMMARY:Woman's Round Robin
DESCRIPTION:Join us for a Woman’s \nRound Robin \nWoman’s Live and Let Live \nMONDAY | OCTOBER 21\, 2024 |\nAT 7 – 8:30 PM \nPlease bring a potluck item to share \nCOMMUNITY PRESBYTERIAN CHURCH\n1555 POLI ST. VENTURA\,\nCALIFORNIA\, 93001
URL:https://alanonventura.org/event/womans-round-robin/
ATTACH;FMTTYPE=image/jpeg:https://alanonventura.org/wp-content/uploads/2024/10/Womans-Round-Robin-2.jpg
END:VEVENT
BEGIN:VEVENT
DTSTART;TZID=America/Los_Angeles:20241012T160000
DTEND;TZID=America/Los_Angeles:20241012T180000
DTSTAMP:20260423T164816
CREATED:20241011T025510Z
LAST-MODIFIED:20241011T025602Z
UID:9441-1728748800-1728756000@alanonventura.org
SUMMARY:Amias Certification
DESCRIPTION:If you are considering becoming an\nAl-Anon member involved in\nAlateen service. \nJoin us on October 12\, 2024\, at 4 pm\nVirtual Training on Zoom \nPlease contact Bear at\ndistrict12.dal@gmail.com
URL:https://alanonventura.org/event/amias-certification/
ATTACH;FMTTYPE=image/png:https://alanonventura.org/wp-content/uploads/2024/10/AmiasCertification.png
END:VEVENT
BEGIN:VEVENT
DTSTART;TZID=America/Los_Angeles:20241010T150000
DTEND;TZID=America/Los_Angeles:20241010T190000
DTSTAMP:20260423T164816
CREATED:20240929T231630Z
LAST-MODIFIED:20240930T024112Z
UID:9432-1728572400-1728586800@alanonventura.org
SUMMARY:AL-ANON LITERATURE DISTRIBUTION CENTER – OPEN HOUSE
DESCRIPTION:AL-ANON LITERATURE\nDISTRIBUTION CENTER (LDC) \nANNUAL OPEN HOUSE \nOCT | 10 | 3-7 PM \nFREE RAFFLE\, GAMES AND REFRESHMENTS \n-CHECK OUT OUR IMPROVED SPACE-\nMEET THE COMMITTEE – BUY LITERATURE \n 505 POLI ST. STE 307\, VENTURA
URL:https://alanonventura.org/event/ldc-event/
ATTACH;FMTTYPE=image/png:https://alanonventura.org/wp-content/uploads/2024/09/LDC-Openhouse.png
END:VEVENT
BEGIN:VEVENT
DTSTART;TZID=America/Los_Angeles:20240906T160000
DTEND;TZID=America/Los_Angeles:20240908T120000
DTSTAMP:20260423T164816
CREATED:20240923T110010Z
LAST-MODIFIED:20240923T185908Z
UID:9233-1725638400-1725796800@alanonventura.org
SUMMARY:LDC OPENHOUSE
DESCRIPTION:Volunteer to be of Service… \n“We Don’t Do This Alone” \nVCAAC 2024 \nVisit: https://www.vcaac.org/online-registration \nNOTE: All committee members & volunteers need to >> REGISTER! \nDownload Flyer: Click Here!
URL:https://alanonventura.org/event/al-anon-literature-distribution-center-ldc-annual-open-house-october-10th-3-7pm-free-raffle-games-refreshments-check-out-our-new-space-meet-the-committee-buy-literature/
ATTACH;FMTTYPE=image/png:https://alanonventura.org/wp-content/uploads/2024/06/VCAACthunderbirds.png
END:VEVENT
BEGIN:VEVENT
DTSTART;TZID=America/Los_Angeles:20240906T160000
DTEND;TZID=America/Los_Angeles:20240908T120000
DTSTAMP:20260423T164816
CREATED:20240613T033057Z
LAST-MODIFIED:20240622T002455Z
UID:9226-1725638400-1725796800@alanonventura.org
SUMMARY:Ventura County AA Convention (VCAAC) with Al-Anon Participation – Register Now
DESCRIPTION:Register for access to meetings\, speakers & more!\n*Registration ($30) includes digital downloads of all AA & Al-Anon Speakers! \nReserve a seat to see the Al-Anon Luncheon Speakers!\n$60 *Lunch will be provided \nRegister Today at VCAAC.org\nSeptember 6-8\, 2024\nHyatt Regency \nDon’t Miss The Miracle! \nDownload Flyer: Click Here!
URL:https://alanonventura.org/event/ventura-county-aa-convention-vcaac-with-al-anon-participation-register-now/
ATTACH;FMTTYPE=image/png:https://alanonventura.org/wp-content/uploads/2024/06/VCAACnightcoast-1.png
END:VEVENT
BEGIN:VEVENT
DTSTART;TZID=America/Los_Angeles:20240906T160000
DTEND;TZID=America/Los_Angeles:20240908T120000
DTSTAMP:20260423T164816
CREATED:20240524T034029Z
LAST-MODIFIED:20240613T034211Z
UID:9186-1725638400-1725796800@alanonventura.org
SUMMARY:Ventura County AA Convention (VCAAC) with Al-Anon Participation – Join the Team
DESCRIPTION:Come join the team!\nVisit: https://volunteersignup.org/YT4H3\nVolunteer to be of Service \n“We Don’t Do This Alone” \nCome Join Us in Westlake Village\nFor an Inspiring Weekend \nDon’t Miss The Miracle!\nDownload Flyer: Click Here!
URL:https://alanonventura.org/event/ventura-county-aa-convention-vcaac-with-al-anon-participation-join-the-team/
ATTACH;FMTTYPE=image/png:https://alanonventura.org/wp-content/uploads/2024/05/joinTeam1000.png
END:VEVENT
BEGIN:VEVENT
DTSTART;TZID=America/Los_Angeles:20240906T160000
DTEND;TZID=America/Los_Angeles:20240908T120000
DTSTAMP:20260423T164816
CREATED:20240507T025941Z
LAST-MODIFIED:20240524T190928Z
UID:9171-1725638400-1725796800@alanonventura.org
SUMMARY:Ventura County AA Convention (VCAAC) with Al-Anon Participation
DESCRIPTION:  \nCome Join Us in Westlake Village For an Inspiring Weekend \nRegister Today at VCAAC.org\nSeptember 6-8\, 2024\nHyatt Regency \nDon’t Miss The Miracle! \nDownload Flyer: Click Here
URL:https://alanonventura.org/event/vcaac/
ATTACH;FMTTYPE=image/png:https://alanonventura.org/wp-content/uploads/2024/05/ACAAC9-8-6-500-1.png
END:VEVENT
BEGIN:VEVENT
DTSTART;TZID=America/Los_Angeles:20240901T150000
DTEND;TZID=America/Los_Angeles:20240901T170000
DTSTAMP:20260423T164816
CREATED:20240625T032912Z
LAST-MODIFIED:20240625T032912Z
UID:9253-1725202800-1725210000@alanonventura.org
SUMMARY:Al-Anon Longtimers Tea
DESCRIPTION:Don’t Be Late\nfor a\nVery Important Date \nAl-Anon Longtimers Tea\nSouth Bay Roundup \nHonoring Longtimers with 25 years 9/1/24 \nSunday / September 1 / 3-5 pm \nSonesta Hotel – Coral Ballroom\n300 Harbor Dr. Redondo Beach 90277 \n 
URL:https://alanonventura.org/event/al-anon-longtimers-tea/
ATTACH;FMTTYPE=image/jpeg:https://alanonventura.org/wp-content/uploads/2024/06/LongtimersTea-e1719329887702.jpg
END:VEVENT
BEGIN:VEVENT
DTSTART;TZID=America/Los_Angeles:20240824T074500
DTEND;TZID=America/Los_Angeles:20240824T100000
DTSTAMP:20260423T164816
CREATED:20240626T144301Z
LAST-MODIFIED:20240626T144301Z
UID:9269-1724485500-1724493600@alanonventura.org
SUMMARY:Don’t Waffle on Your Recovery
DESCRIPTION:Don’t Waffle on Your Recovery\n \nSaturday\, August 24\, 2024\nJoin Us as we BREAK (1) FAST (2) from self \nHosted by:\nSurvival to Recovery\nAdult Children\n(WSO# 30566930)* \n7:45–8:29 am\nWaffles\, Coffee\, Tea  \nDonation $5.00 \nYou have CHOICES\n8:30 – 10:00 am Meeting   \nShepherd Of Valley Lutheran Church\n4191 Cochran Street\, room 101. Simi Valley  \n(1) Break: a respite from work\, school\, or duty\n(2) Fast: Moving or able to move rapidly; swift \n*This meeting contributes to our Service Arms
URL:https://alanonventura.org/event/dont-waffle-on-your-recovery/
ATTACH;FMTTYPE=image/jpeg:https://alanonventura.org/wp-content/uploads/2024/06/Round-Robin-e1719412690370.jpg
END:VEVENT
BEGIN:VEVENT
DTSTART;TZID=America/Los_Angeles:20240817T110000
DTEND;TZID=America/Los_Angeles:20240817T180000
DTSTAMP:20260423T164816
CREATED:20240731T221829Z
LAST-MODIFIED:20240808T002109Z
UID:9295-1723892400-1723917600@alanonventura.org
SUMMARY:25th Annual Ventura County Pride - Volunteers Needed
DESCRIPTION:25th Annual Ventura County Pride \n“Volunteers Needed” \nFor More info/to volunteer: \nemail: cpc@alanonventura.org \nDownload Flyer: Click Here!
URL:https://alanonventura.org/event/25th-annual-ventura-county-pride-volunteers-needed/
ATTACH;FMTTYPE=image/jpeg:https://alanonventura.org/wp-content/uploads/2024/07/alanon-ventura-county-pride.jpg
END:VEVENT
BEGIN:VEVENT
DTSTART;TZID=America/Los_Angeles:20240807T160000
DTEND;TZID=America/Los_Angeles:20240908T120000
DTSTAMP:20260423T164816
CREATED:20240729T041505Z
LAST-MODIFIED:20240808T002043Z
UID:9287-1723046400-1725796800@alanonventura.org
SUMMARY:Al-Anon Gift Basket Donations - VCAAC
DESCRIPTION:Al-Anon Gift Basket Donations … \nVCAAC 2024 \n\n\n\nVCAAC IS JUST AROUND THE CORNER AND WE ARE SEEKING GIFT BASKETS DONATIONS FROM ALL OUR AL-ANON MEETINGS. \n\n\n\nDownload Flyer: Click Here!
URL:https://alanonventura.org/event/al-anon-gift-basket-donations-vcaac/
ATTACH;FMTTYPE=image/jpeg:https://alanonventura.org/wp-content/uploads/2024/07/vcaac-basket-flyer.jpg
END:VEVENT
BEGIN:VEVENT
DTSTART;TZID=America/Los_Angeles:20240806T160000
DTEND;TZID=America/Los_Angeles:20240905T120000
DTSTAMP:20260423T164816
CREATED:20240808T001209Z
LAST-MODIFIED:20240820T010551Z
UID:9306-1722960000-1725537600@alanonventura.org
SUMMARY:Country Store (VCAAC)
DESCRIPTION:Donations Needed… \n2024 Country Store at VCAAC \nDownload Flyer: Click Here!
URL:https://alanonventura.org/event/country-store-vcaac/
LOCATION:Hyatt Regency Westlake\, 880 S. Westlake Blvd.\, westlake village\, CA\, 91361
ATTACH;FMTTYPE=image/jpeg:https://alanonventura.org/wp-content/uploads/2024/08/2024-country-store.jpg
END:VEVENT
BEGIN:VEVENT
DTSTART;TZID=America/Los_Angeles:20240727T120000
DTEND;TZID=America/Los_Angeles:20240729T160000
DTSTAMP:20260423T164816
CREATED:20240625T152216Z
LAST-MODIFIED:20240625T153247Z
UID:9259-1722081600-1722268800@alanonventura.org
SUMMARY:Country Store – Donations Needed
DESCRIPTION:Handcrafted Items:\nNeedlework\, Pottery\, God Boxes\, Bookmarks\, Painted Rocks\, Woodwork\nHandmade or Used Costume Jewelry  \nProgram-Related Materials:\nBookmarks\, Mugs\, Prints\, Journals\, God Boxes\, Posters and Prints \n  \nVentura County AA Convention (VCAA)\nwith Al-Anon and Alateen Participation*\n*Alateen participation is subject to final approval.
URL:https://alanonventura.org/event/chili-cook-off-bake-sale/
ATTACH;FMTTYPE=image/png:https://alanonventura.org/wp-content/uploads/2024/06/CountryStore-e1719329832390.png
END:VEVENT
BEGIN:VEVENT
DTSTART;TZID=America/Los_Angeles:20240727T120000
DTEND;TZID=America/Los_Angeles:20240727T160000
DTSTAMP:20260423T164816
CREATED:20240621T235644Z
LAST-MODIFIED:20240722T014826Z
UID:9240-1722081600-1722096000@alanonventura.org
SUMMARY:Chili Cook-Off & Bake Sale
DESCRIPTION:Open to All! \nVENTURA COUNTY AL-ANON FAMILY GROUPS \n2024 FUN-RAISER \nCHILI COOK-OFF & BAKE SALE \n\nSATURDAY\, JULY 27\, 12-NOON – 4 PM \n\nCREEKS IDE PAVILION CONEJO CREEK NORTH PARK \n1379 E. Janss Road\, Thousand Oaks\, 91362 \n\nFUN FOR THE WHOLE FAMILY! Games\, music\, & big surprises! \n“ALL-YOU-CAN-EAT” Chili\, cornbread\, drinks\, & gourmet hot dog bar! \nCALLING ALL BAKERS: \nRequesting donations of brownies\, cookies\, cakes\, pies\, & more to be sold at the event. Proceeds benefit VCAAC! \n\nCHILI COOK-OFF\n \nTo enter the cook-off & a chance to win fabulous prizes for the best-tasting chili\, please send contact information ASAP to: \nEmail: jeffandlinda19@gmail.com phone/text: 760.578.5830 \nENTRY REQUIRES 2-4 QUARTS OF CHILI\, \nINCLUDING ANY TOPPINGS\, PREPPED & READY TO SERVE. \n*All paper goods & utensils will be provided \n  \nFor additional details\, go to \nalanonventura.org/events 
URL:https://alanonventura.org/event/funraiser2024/
ATTACH;FMTTYPE=image/png:https://alanonventura.org/wp-content/uploads/2024/06/ChiliCookOfflg-e1719329950960.png
END:VEVENT
BEGIN:VEVENT
DTSTART;TZID=America/Los_Angeles:20240704T100000
DTEND;TZID=America/Los_Angeles:20240704T160000
DTSTAMP:20260423T164816
CREATED:20240627T034852Z
LAST-MODIFIED:20240627T034852Z
UID:9274-1720087200-1720108800@alanonventura.org
SUMMARY:Al-Anon Public Outreach Booth at the Ventura 4th of July Street Fair
DESCRIPTION:Join Us \n“Volunteers Needed”\, contact Shelly (see flyer) \nThursday July 4th\, 10am – 4pm \nStop by and say Hello! \nDownload Flyer: Click Here!
URL:https://alanonventura.org/event/4th-july-street-fair/
ATTACH;FMTTYPE=image/png:https://alanonventura.org/wp-content/uploads/2024/06/Soft-Blue-Happy-Independence-Day-Flyer.png
END:VEVENT
BEGIN:VEVENT
DTSTART;TZID=America/Los_Angeles:20240629T090000
DTEND;TZID=America/Los_Angeles:20240629T160000
DTSTAMP:20260423T164816
CREATED:20240412T012413Z
LAST-MODIFIED:20240412T024358Z
UID:9082-1719651600-1719676800@alanonventura.org
SUMMARY:Wave of Recovery – Alathon
DESCRIPTION:ALATHON 2024 – Sponsored by DISTRICTS 27 & 17\nTICKET TO RIDE \nThe Wave of Recovery\nSaturday\, June 29\, 2024\n9 am – 4 pm \nWindjammers Yacht Club\n13589 Mindanao Way\nMarina Del Rey\, CA 90292 \n \n \nDownload Flyer: Alathon – Wave of Recovery
URL:https://alanonventura.org/event/wave-of-recovery-alathon/
ATTACH;FMTTYPE=image/jpeg:https://alanonventura.org/wp-content/uploads/2024/04/Alathon.jpeg
END:VEVENT
BEGIN:VEVENT
DTSTART;TZID=America/Los_Angeles:20240426T170000
DTEND;TZID=America/Los_Angeles:20240428T140000
DTSTAMP:20260423T164816
CREATED:20240412T003809Z
LAST-MODIFIED:20240412T025613Z
UID:9070-1714150800-1714312800@alanonventura.org
SUMMARY:Serenity by the Sea
DESCRIPTION:Download SBTS Flyer 2024
URL:https://alanonventura.org/event/serenity-by-the-sea-2/
ATTACH;FMTTYPE=image/jpeg:https://alanonventura.org/wp-content/uploads/2024/01/2024-Committee-Flyer.jpg
END:VEVENT
BEGIN:VEVENT
DTSTART;TZID=America/Los_Angeles:20240426T140000
DTEND;TZID=America/Los_Angeles:20240428T120000
DTSTAMP:20260423T164816
CREATED:20240312T233030Z
LAST-MODIFIED:20240312T233959Z
UID:7679-1714140000-1714305600@alanonventura.org
SUMMARY:47th Annual Southern California AFG Convention
DESCRIPTION:Al-Anon/Alateen Convention With AA Participation \nDownload Flyer
URL:https://alanonventura.org/event/47th-annual-southern-california-afg-convention/
LOCATION:Double Tree Hotel\, 222 N Vineyard Ave.\, Ontario\, CA\, 91764\, United States
ATTACH;FMTTYPE=image/jpeg:https://alanonventura.org/wp-content/uploads/2024/03/flyer-47th-annual.jpg
END:VEVENT
BEGIN:VEVENT
DTSTART;TZID=America/Los_Angeles:20240425T170000
DTEND;TZID=America/Los_Angeles:20240427T140000
DTSTAMP:20260423T164816
CREATED:20240127T044051Z
LAST-MODIFIED:20240201T062821Z
UID:1905-1714064400-1714226400@alanonventura.org
SUMMARY:Serenity By the Sea: Gift Baskets Fundraiser
DESCRIPTION:AA convention with Al-Anon/Alateen participation \nPlease bring your basket directly to the Ventura County Fairgrounds on Friday afternoon/evening or Saturday morning. \nDownload Flyer
URL:https://alanonventura.org/event/serenity-by-the-sea-gift-baskets-fundraiser/
ATTACH;FMTTYPE=image/jpeg:https://alanonventura.org/wp-content/uploads/2024/01/Basket-Flyer-2024.jpg
END:VEVENT
BEGIN:VEVENT
DTSTART;TZID=America/Los_Angeles:20240406T113000
DTEND;TZID=America/Los_Angeles:20240406T143000
DTSTAMP:20260423T164816
CREATED:20240306T033609Z
LAST-MODIFIED:20240306T034403Z
UID:5053-1712403000-1712413800@alanonventura.org
SUMMARY:Spring Fling
DESCRIPTION:Serenity by the Sea 2024 \nAl-Anon Fundraiser with AA Participation \nTo buy tickets goto:\nhttps://sbts2024springfling.rsvpify.com \nDownload Flyer
URL:https://alanonventura.org/event/spring-fling/
LOCATION:Mission Church\, 5353 Walker Street\, Ventura\, CA\, United States
ATTACH;FMTTYPE=image/jpeg:https://alanonventura.org/wp-content/uploads/2024/03/SpringFling-Flyer.jpg
END:VEVENT
BEGIN:VEVENT
DTSTART;TZID=America/Los_Angeles:20240311T173000
DTEND;TZID=America/Los_Angeles:20240311T203000
DTSTAMP:20260423T164816
CREATED:20240214T205555Z
LAST-MODIFIED:20240214T205555Z
UID:2867-1710178200-1710189000@alanonventura.org
SUMMARY:Camarillo Monday Men's AFG
DESCRIPTION:17th Anniversary Party \nLadies Welcome \nDownload Flyer
URL:https://alanonventura.org/event/camarillo-monday-mens-afg/
ATTACH;FMTTYPE=image/jpeg:https://alanonventura.org/wp-content/uploads/2024/02/17th-Anniversary-Party-flyer.jpg
END:VEVENT
BEGIN:VEVENT
DTSTART;TZID=America/Los_Angeles:20240309T090000
DTEND;TZID=America/Los_Angeles:20240310T153000
DTSTAMP:20260423T164816
CREATED:20240201T054516Z
LAST-MODIFIED:20240201T063936Z
UID:1988-1709974800-1710084600@alanonventura.org
SUMMARY:44th Annual VCAAC Logo Contest
DESCRIPTION:This Year’s Theme: A Common Solution \nDownload Flyer
URL:https://alanonventura.org/event/vcaac-logo-contest/
ATTACH;FMTTYPE=image/jpeg:https://alanonventura.org/wp-content/uploads/2024/01/vcaac-logo-contest.jpeg
END:VEVENT
BEGIN:VEVENT
DTSTART;TZID=America/Los_Angeles:20240302T180000
DTEND;TZID=America/Los_Angeles:20240302T210000
DTSTAMP:20260423T164816
CREATED:20240214T205245Z
LAST-MODIFIED:20240214T205354Z
UID:2859-1709402400-1709413200@alanonventura.org
SUMMARY:Serenity By the Sea: Bingo Night
DESCRIPTION:Serenity by the Sea 2024 presents with Al-Anon participation \nBingo Night.  $20 Adults\, Kids entry is free\, free Coffee \nDownload Flyer
URL:https://alanonventura.org/event/serenity-by-the-sea-bingo-night/
ATTACH;FMTTYPE=image/jpeg:https://alanonventura.org/wp-content/uploads/2024/02/SBTS-Bingo-Night-2024.jpg
END:VEVENT
BEGIN:VEVENT
DTSTART;TZID=America/Los_Angeles:20240206T160000
DTEND;TZID=America/Los_Angeles:20240208T120000
DTSTAMP:20260423T164816
CREATED:20240524T035728Z
LAST-MODIFIED:20240613T033737Z
UID:9193-1707235200-1707393600@alanonventura.org
SUMMARY:Ventura County AA Convention (VCAAC) with Al-Anon Participation – Register
DESCRIPTION:Come Join Us in Westlake Village For an Inspiring Weekend \nRegister Today at VCAAC.org\nSeptember 6-8\, 2024\nHyatt Regency \nDon’t Miss The Miracle! \nDownload Flyer: Click Here!
URL:https://alanonventura.org/event/ventura-county-aa-convention-vcaac-with-al-anon-participation-register/
ATTACH;FMTTYPE=image/png:https://alanonventura.org/wp-content/uploads/2024/05/Registernow1000.png
END:VEVENT
END:VCALENDAR