BEGIN:VCALENDAR
VERSION:2.0
PRODID:-//Al-Anon/Alateen Ventura County - ECPv6.15.20//NONSGML v1.0//EN
CALSCALE:GREGORIAN
METHOD:PUBLISH
X-WR-CALNAME:Al-Anon/Alateen Ventura County
X-ORIGINAL-URL:https://alanonventura.org
X-WR-CALDESC:Events for Al-Anon/Alateen Ventura County
REFRESH-INTERVAL;VALUE=DURATION:PT1H
X-Robots-Tag:noindex
X-PUBLISHED-TTL:PT1H
BEGIN:VTIMEZONE
TZID:America/Los_Angeles
BEGIN:DAYLIGHT
TZOFFSETFROM:-0800
TZOFFSETTO:-0700
TZNAME:PDT
DTSTART:20240310T100000
END:DAYLIGHT
BEGIN:STANDARD
TZOFFSETFROM:-0700
TZOFFSETTO:-0800
TZNAME:PST
DTSTART:20241103T090000
END:STANDARD
BEGIN:DAYLIGHT
TZOFFSETFROM:-0800
TZOFFSETTO:-0700
TZNAME:PDT
DTSTART:20250309T100000
END:DAYLIGHT
BEGIN:STANDARD
TZOFFSETFROM:-0700
TZOFFSETTO:-0800
TZNAME:PST
DTSTART:20251102T090000
END:STANDARD
BEGIN:DAYLIGHT
TZOFFSETFROM:-0800
TZOFFSETTO:-0700
TZNAME:PDT
DTSTART:20260308T100000
END:DAYLIGHT
BEGIN:STANDARD
TZOFFSETFROM:-0700
TZOFFSETTO:-0800
TZNAME:PST
DTSTART:20261101T090000
END:STANDARD
BEGIN:DAYLIGHT
TZOFFSETFROM:-0800
TZOFFSETTO:-0700
TZNAME:PDT
DTSTART:20270314T100000
END:DAYLIGHT
BEGIN:STANDARD
TZOFFSETFROM:-0700
TZOFFSETTO:-0800
TZNAME:PST
DTSTART:20271107T090000
END:STANDARD
END:VTIMEZONE
BEGIN:VEVENT
DTSTART;VALUE=DATE:20260309
DTEND;VALUE=DATE:20260310
DTSTAMP:20260423T110000
CREATED:20260301T205219Z
LAST-MODIFIED:20260301T205219Z
UID:12427-1773014400-1773100799@alanonventura.org
SUMMARY:Parents Meeting
DESCRIPTION:Parents Meeting – Parents Experience\, Strength & Hope\nEvery Monday Night\n7:00pm – 8:15pm \nMoorpark Presbyterian Church\n13950 Peach Hill Road\nMoorpark\, CA \nClick Here for More Info
URL:https://alanonventura.org/event/parents-meeting/
LOCATION:CA
CATEGORIES:VCAAC
ATTACH;FMTTYPE=image/jpeg:https://alanonventura.org/wp-content/uploads/2026/03/Monday-Night-Moorpark-Parent-Mtg.pdf.jpg
END:VEVENT
BEGIN:VEVENT
DTSTART;VALUE=DATE:20260307
DTEND;VALUE=DATE:20260308
DTSTAMP:20260423T110000
CREATED:20260223T010442Z
LAST-MODIFIED:20260223T010442Z
UID:12077-1772841600-1772927999@alanonventura.org
SUMMARY:Bingo Night!
DESCRIPTION:Bingo Night presented by Serenity By the Sea w/ Al-Anon participation!\nSaturday\, March 7\, 2026\n6pm – 9pm \nBalboa Middle School Cafeteria\n247 S. Hill Rd.\nVentura\, CA \n$25 Admission \nClick Here for Flyer
URL:https://alanonventura.org/event/bingo-night/
LOCATION:CA
CATEGORIES:VCAAC
ATTACH;FMTTYPE=image/jpeg:https://alanonventura.org/wp-content/uploads/2026/02/Bingo-Night.jpg
END:VEVENT
BEGIN:VEVENT
DTSTART;VALUE=DATE:20260302
DTEND;VALUE=DATE:20260303
DTSTAMP:20260423T110000
CREATED:20260301T205314Z
LAST-MODIFIED:20260301T205314Z
UID:12430-1772409600-1772495999@alanonventura.org
SUMMARY:Parents Meeting
DESCRIPTION:Parents Meeting – Parents Experience\, Strength & Hope\nEvery Monday Night\n7:00pm – 8:15pm \nMoorpark Presbyterian Church\n13950 Peach Hill Road\nMoorpark\, CA \nClick Here for More Info
URL:https://alanonventura.org/event/parents-meeting-2/
LOCATION:CA
CATEGORIES:VCAAC
ATTACH;FMTTYPE=image/jpeg:https://alanonventura.org/wp-content/uploads/2026/03/Monday-Night-Moorpark-Parent-Mtg.pdf.jpg
END:VEVENT
BEGIN:VEVENT
DTSTART;VALUE=DATE:20260214
DTEND;VALUE=DATE:20260215
DTSTAMP:20260423T110000
CREATED:20260108T183713Z
LAST-MODIFIED:20260206T021855Z
UID:10426-1771027200-1771113599@alanonventura.org
SUMMARY:Spring Fling - A Valentine’s Day Celebration!
DESCRIPTION:Serenity by the Sea with Al-Anon participation presents 2026 Valentine’s Day Spring Fling Valentine’s Day Celebration!\nSaturday\, February 14\, 2026\n1:30pm – 4:30pm \nMission Church\n5353 Walker St\nVentura\, CA \n$20 Pre-Registration\n$25 at the Door \nClick Here To Register
URL:https://alanonventura.org/event/spring-fling-2/
LOCATION:CA
CATEGORIES:VCAAC
ATTACH;FMTTYPE=image/jpeg:https://alanonventura.org/wp-content/uploads/2026/01/Spring-Fling-Revised-20251216.pdf.jpg
END:VEVENT
BEGIN:VEVENT
DTSTART;VALUE=DATE:20260112
DTEND;VALUE=DATE:20260113
DTSTAMP:20260423T110000
CREATED:20251222T223339Z
LAST-MODIFIED:20251222T223808Z
UID:10410-1768176000-1768262399@alanonventura.org
SUMMARY:20th Anniversary Round Robin - Hybrid Meeting
DESCRIPTION:20th Anniversary Round Robin – Hybrid Meeting\nMonday\, January 12\, 2026\n6:30 PM \nTrinity Lutheran\n196 Ashwood Ave.\nVentura\, CA \n&  \nZOOM \nCall Shelly for more info 805-816-8569 \nClick Here for Details
URL:https://alanonventura.org/event/20th-anniversary-round-robin-hybrid-meeting/
LOCATION:CA
CATEGORIES:VCAAC
ATTACH;FMTTYPE=image/jpeg:https://alanonventura.org/wp-content/uploads/2025/12/Everyone-is-welcome-.pdf.jpg
END:VEVENT
BEGIN:VEVENT
DTSTART;VALUE=DATE:20260101
DTEND;VALUE=DATE:20260102
DTSTAMP:20260423T110000
CREATED:20251030T170436Z
LAST-MODIFIED:20251030T170436Z
UID:10350-1767225600-1767311999@alanonventura.org
SUMMARY:Literature Distribution Center (LDC) Holiday Hours
DESCRIPTION:Literature Distribution\nCenter (LDC) Holiday Hours\nCLOSED\nJanuary 1st
URL:https://alanonventura.org/event/literature-distribution-center-ldc-holiday-hours-3/
LOCATION:CA
CATEGORIES:VCAAC
ATTACH;FMTTYPE=image/jpeg:https://alanonventura.org/wp-content/uploads/2025/10/LDC-Holiday-Hours-2025-Final.pdf.jpg
END:VEVENT
BEGIN:VEVENT
DTSTART;VALUE=DATE:20251231
DTEND;VALUE=DATE:20260101
DTSTAMP:20260423T110000
CREATED:20251104T200950Z
LAST-MODIFIED:20251104T201015Z
UID:10365-1767139200-1767225599@alanonventura.org
SUMMARY:New Year's Eve Dance Party
DESCRIPTION:AA – Alanon Black & White Themed Dance Party to bring in 2026\nWednesday\, December 31\, 2025\n6 PM – 10 PM \nMission Church\n5353 Walker St.\nVentura\, CA \n$20 Pre-Registration\n$25 @ the door \nClick Here for More Info and to Pre-Register
URL:https://alanonventura.org/event/new-years-eve-dance-party/
LOCATION:CA
CATEGORIES:VCAAC
ATTACH;FMTTYPE=image/jpeg:https://alanonventura.org/wp-content/uploads/2025/11/SBTS_NYE.jpeg
END:VEVENT
BEGIN:VEVENT
DTSTART;VALUE=DATE:20251225
DTEND;VALUE=DATE:20251228
DTSTAMP:20260423T110000
CREATED:20251030T170327Z
LAST-MODIFIED:20251030T170327Z
UID:10348-1766620800-1766879999@alanonventura.org
SUMMARY:Literature Distribution Center (LDC) Holiday Hours
DESCRIPTION:Literature Distribution\nCenter (LDC) Holiday Hours\nCLOSED\nDecember 25th & 27th\nJanuary 1st
URL:https://alanonventura.org/event/literature-distribution-center-ldc-holiday-hours-2/
LOCATION:CA
CATEGORIES:VCAAC
ATTACH;FMTTYPE=image/jpeg:https://alanonventura.org/wp-content/uploads/2025/10/LDC-Holiday-Hours-2025-Final.pdf.jpg
END:VEVENT
BEGIN:VEVENT
DTSTART;VALUE=DATE:20251213
DTEND;VALUE=DATE:20251214
DTSTAMP:20260423T110000
CREATED:20251208T225138Z
LAST-MODIFIED:20251208T225447Z
UID:10404-1765584000-1765670399@alanonventura.org
SUMMARY:SCWS Group Name Discussion
DESCRIPTION:SCWS Group Name Discussion\nSaturday\, December 13\, 2025\n9:00am – 11:00am\nZoom Room \nClick Here for Details
URL:https://alanonventura.org/event/scws-group-name-discussion/
LOCATION:CA
CATEGORIES:VCAAC
ATTACH;FMTTYPE=image/jpeg:https://alanonventura.org/wp-content/uploads/2025/12/Group-Names-Discussion-12-13-25.pdf.jpg
END:VEVENT
BEGIN:VEVENT
DTSTART;VALUE=DATE:20251128
DTEND;VALUE=DATE:20251201
DTSTAMP:20260423T110000
CREATED:20251030T170252Z
LAST-MODIFIED:20251030T170252Z
UID:10345-1764288000-1764547199@alanonventura.org
SUMMARY:Literature Distribution Center (LDC) Holiday Hours
DESCRIPTION:Literature Distribution\nCenter (LDC) Holiday Hours\nCLOSED\nNovember 27th & 29th\nDecember 25th & 27th\nJanuary 1st
URL:https://alanonventura.org/event/literature-distribution-center-ldc-holiday-hours/
LOCATION:CA
CATEGORIES:VCAAC
ATTACH;FMTTYPE=image/jpeg:https://alanonventura.org/wp-content/uploads/2025/10/LDC-Holiday-Hours-2025-Final.pdf.jpg
END:VEVENT
BEGIN:VEVENT
DTSTART;VALUE=DATE:20251128
DTEND;VALUE=DATE:20251201
DTSTAMP:20260423T110000
CREATED:20250918T223206Z
LAST-MODIFIED:20250918T223206Z
UID:10262-1764288000-1764547199@alanonventura.org
SUMMARY:XXVII Congreso de Alcholicos Anonimos
DESCRIPTION:XXVII Congreso de Alcholicos Anonimos\nFriday\, November 28\, 2025  thru Sunday\, November 30\, 2025\n600 E. Esplanade Dr.\, Oxnard CA 93036 \nCLICK HERE FOR DETAILS \nFor more info call (805) 278-5055
URL:https://alanonventura.org/event/xxvii-congreso-de-alcholicos-anonimos/
LOCATION:CA
CATEGORIES:VCAAC
ATTACH;FMTTYPE=image/jpeg:https://alanonventura.org/wp-content/uploads/2025/09/PHOTO-2025-09-11-12-09-32.jpeg
END:VEVENT
BEGIN:VEVENT
DTSTART;VALUE=DATE:20251113
DTEND;VALUE=DATE:20251114
DTSTAMP:20260423T110000
CREATED:20251002T000916Z
LAST-MODIFIED:20251014T205513Z
UID:10305-1762992000-1763078399@alanonventura.org
SUMMARY:Round Robin - Expectations
DESCRIPTION:Round Robin – Expectations\nThursday\, November 13\, 2025\n6:30 PM \nPadre Serra Parish\n5205 Upland Rd.\nCamarillo\, CA \nCLICK HERE FOR DETAILS \nCall Meredith H. for details (661) 557-4534
URL:https://alanonventura.org/event/round-robin-expectations/
LOCATION:CA
CATEGORIES:VCAAC
ATTACH;FMTTYPE=image/jpeg:https://alanonventura.org/wp-content/uploads/2025/10/3Al-Anon-Commitments-page-5.pdf.jpg
END:VEVENT
BEGIN:VEVENT
DTSTART;VALUE=DATE:20251109
DTEND;VALUE=DATE:20251110
DTSTAMP:20260423T110000
CREATED:20251030T171148Z
LAST-MODIFIED:20251030T171339Z
UID:10352-1762646400-1762732799@alanonventura.org
SUMMARY:Serenity By The Sea Al-Anon Committee
DESCRIPTION:Serenity By The Sea Al-Anon Committee\nIn Person at The Peninsula Club\n3333 Peninsula Road \, Oxnard\, CA \nSunday\, November 9th\, 2025 – 2:00pm – 3:30pm \nFor more information please CLICK HERE or reach out to Jason H. (805) 570-5636 or hendrick4@msn.com \n 
URL:https://alanonventura.org/event/serenity-by-the-sea-al-anon-committee/
LOCATION:CA
CATEGORIES:VCAAC
ATTACH;FMTTYPE=image/jpeg:https://alanonventura.org/wp-content/uploads/2025/10/SBTS-ALANON.pdf.jpg
END:VEVENT
BEGIN:VEVENT
DTSTART;VALUE=DATE:20251108
DTEND;VALUE=DATE:20251109
DTSTAMP:20260423T110000
CREATED:20251104T201916Z
LAST-MODIFIED:20251104T201916Z
UID:10369-1762560000-1762646399@alanonventura.org
SUMMARY:The Procrastinator’s Ball – Halloween Dance
DESCRIPTION:The Procrastinator’s Ball – Halloween Dance\nSaturday\, November 8\, 2025\n6 PM – 8 PM \nMission Church\n5353 Walker St.\nVentura\, CA \nAdults $20 / Kids Get In Free \nClick Here for More Info
URL:https://alanonventura.org/event/the-procrastinators-ball-halloween-dance/
LOCATION:CA
CATEGORIES:VCAAC
ATTACH;FMTTYPE=image/jpeg:https://alanonventura.org/wp-content/uploads/2025/11/image1-2.jpeg
END:VEVENT
BEGIN:VEVENT
DTSTART;VALUE=DATE:20251025
DTEND;VALUE=DATE:20251026
DTSTAMP:20260423T110000
CREATED:20250925T205121Z
LAST-MODIFIED:20251014T210701Z
UID:10274-1761350400-1761436799@alanonventura.org
SUMMARY:Sponsorship Workshop
DESCRIPTION:Sponsorship Workshop\nLearn about the importance of Al-Anon and Alateen Sponsorhip\nSaturday\, October 25\, 2025\n11:30am – 1:00pm \nNew Hope Lutheran Church\n29295 Agoura Road\nAgoura Hills\, CA 91301 \nCLICK HERE FOR DETAILS
URL:https://alanonventura.org/event/sponsorship-workshop/
LOCATION:CA
CATEGORIES:VCAAC
ATTACH;FMTTYPE=image/jpeg:https://alanonventura.org/wp-content/uploads/2025/10/Sponsorship-Flyer-Final-10-6-2025-Final.pdf.jpg
END:VEVENT
BEGIN:VEVENT
DTSTART;VALUE=DATE:20251022
DTEND;VALUE=DATE:20251023
DTSTAMP:20260423T110000
CREATED:20250731T214447Z
LAST-MODIFIED:20251014T210208Z
UID:10114-1761091200-1761177599@alanonventura.org
SUMMARY:Nueva Reunión De Al-Anon - Solo para Mujeres
DESCRIPTION:Nueva Reunión De Al-Anon\nSolo para Mujeres\nUna Luz En Mi Camino GFA \nMiercoles 6:00PM-7:00PM\n359 1/2 Central Avenue\, Fillmore\, CA 93015 \nHaz clic aquí \nContacto Rosemarie: 805-328-1439
URL:https://alanonventura.org/event/nueva-reunion-de-al-anon/
LOCATION:CA
CATEGORIES:VCAAC
ATTACH;FMTTYPE=image/jpeg:https://alanonventura.org/wp-content/uploads/2025/07/New-Fillmore.pdf.jpg
END:VEVENT
BEGIN:VEVENT
DTSTART;VALUE=DATE:20251021
DTEND;VALUE=DATE:20251022
DTSTAMP:20260423T110000
CREATED:20250925T215933Z
LAST-MODIFIED:20251014T205856Z
UID:10288-1761004800-1761091199@alanonventura.org
SUMMARY:A Day at a Time - Alateen Meeting
DESCRIPTION:A Day at a Time – Alateen Meeting\nThis is a meeting for children (ages 8-12) whose lives have been or are being affected by the effects of anyone’s drinking\nTuesdays 7:15pm – 8:15pm \nNate’s Place\n3840 W Channel Islands Blvd\nOxnard\, CA 93035 \nCLICK HERE FOR DETAILS \nFor more info contact Bear at 805-766-7401
URL:https://alanonventura.org/event/nates-place-alateen-meeting/
LOCATION:CA
CATEGORIES:VCAAC
ATTACH;FMTTYPE=image/jpeg:https://alanonventura.org/wp-content/uploads/2025/10/Nates-Place.pdf.jpg
END:VEVENT
BEGIN:VEVENT
DTSTART;VALUE=DATE:20251020
DTEND;VALUE=DATE:20251021
DTSTAMP:20260423T110000
CREATED:20250925T215723Z
LAST-MODIFIED:20251014T210011Z
UID:10286-1760918400-1761004799@alanonventura.org
SUMMARY:Keep it Simple - Alateen Young Persons Meeting
DESCRIPTION:Keep it Simple – Alateen Young Persons Meeting\nThis is a meeting for children (ages 8-12) whose lives have been or are being affected by the effects of anyone’s drinking\nMondays 7:00pm – 8:30pm \nTrinity Luthern Church\n196 N Ashwood Ave.\nVentura\, CA 93003 \nCLICK HERE FOR DETAILS \nFor more info contact Bear at 805-766-7401
URL:https://alanonventura.org/event/keep-it-simple-alateen-young-persons-meeting/
LOCATION:CA
CATEGORIES:VCAAC
ATTACH;FMTTYPE=image/jpeg:https://alanonventura.org/wp-content/uploads/2025/09/Trinity-Lutheran.pdf.jpg
END:VEVENT
BEGIN:VEVENT
DTSTART;VALUE=DATE:20251020
DTEND;VALUE=DATE:20251021
DTSTAMP:20260423T110000
CREATED:20250925T214134Z
LAST-MODIFIED:20251014T210130Z
UID:10284-1760918400-1761004799@alanonventura.org
SUMMARY:Live and Let Live - Alateen Young Persons Meeting
DESCRIPTION:Live and Let Live – Alateen Young Persons Meeting\nThis is a meeting for children (ages 8-12) whose lives have been or are being affected by the effects of anyone’s drinking\nMondays 7:00pm – 8:00pm \nCommunity Presbyterian Church\n1555 Poli St.\nVentura\, CA 93001 \nCLICK HERE FOR DETAILS \nFor more info contact Bear at 805-766-7401
URL:https://alanonventura.org/event/live-and-let-live-alateen-young-persons-meeting/
LOCATION:CA
CATEGORIES:VCAAC
ATTACH;FMTTYPE=image/jpeg:https://alanonventura.org/wp-content/uploads/2025/09/Alateen-Kids.pdf.jpg
END:VEVENT
BEGIN:VEVENT
DTSTART;VALUE=DATE:20251013
DTEND;VALUE=DATE:20251014
DTSTAMP:20260423T110000
CREATED:20251002T000701Z
LAST-MODIFIED:20251014T205554Z
UID:10302-1760313600-1760399999@alanonventura.org
SUMMARY:Round Robin - Slogans
DESCRIPTION:Round Robin – Slogans\nMonday\, October 13\, 2025\n10:00 AM \nChurch of Christ\n515 Temple Ave.\nCamarillo\, CA \nCLICK HERE FOR DETAILS \nCall Meredith H. for details (661) 557-4534
URL:https://alanonventura.org/event/round-robin-slogans/
LOCATION:CA
CATEGORIES:VCAAC
ATTACH;FMTTYPE=image/jpeg:https://alanonventura.org/wp-content/uploads/2025/10/2Al-Anon-Commitments-page-7.pdf.jpg
END:VEVENT
BEGIN:VEVENT
DTSTART;VALUE=DATE:20251009
DTEND;VALUE=DATE:20251010
DTSTAMP:20260423T110000
CREATED:20250912T190612Z
LAST-MODIFIED:20250919T023344Z
UID:10255-1759968000-1760054399@alanonventura.org
SUMMARY:OPEN HOUSE - Al-Anon Literature Distribution Center
DESCRIPTION:Al-Anon Literature Distribution Center OPEN HOUSE\nThursday\, October 9th\n11am – 6pm\n505 Poli St. #307\, Ventura\, CA \nFree Raffle\nFree Refreshments\nMeet the Committee\nBuy Literature \nCLICK HERE FOR DETAILS
URL:https://alanonventura.org/event/open-house-al-anon-literature-distribution-center/
LOCATION:CA
CATEGORIES:VCAAC
ATTACH;FMTTYPE=image/jpeg:https://alanonventura.org/wp-content/uploads/2025/09/LDC-OPEN-HOUSE.jpg
END:VEVENT
BEGIN:VEVENT
DTSTART;VALUE=DATE:20251001
DTEND;VALUE=DATE:20251002
DTSTAMP:20260423T110000
CREATED:20250925T220235Z
LAST-MODIFIED:20251014T205638Z
UID:10290-1759276800-1759363199@alanonventura.org
SUMMARY:AMIAS Certification
DESCRIPTION:AMIAS Certification\nBecome an Al-Anon Member Involved with Alateen Service (AMIAS)\nWednesday\, October 15\, 2025\n7:00pm – 9:00pm \n321 N Aviador St\nCamarillo\, CA 93010 \nCLICK HERE FOR DETAILS \nFor more info email Pat D at Alateencoordinator@alanonventura.com
URL:https://alanonventura.org/event/amias-certification-2/
LOCATION:CA
CATEGORIES:VCAAC
ATTACH;FMTTYPE=image/jpeg:https://alanonventura.org/wp-content/uploads/2025/09/Amias-Training.pdf.jpg
END:VEVENT
BEGIN:VEVENT
DTSTART;VALUE=DATE:20250816
DTEND;VALUE=DATE:20250817
DTSTAMP:20260423T110000
CREATED:20250812T213449Z
LAST-MODIFIED:20250814T204324Z
UID:10150-1755302400-1755388799@alanonventura.org
SUMMARY:Spanish Speaking Community Fundraiser
DESCRIPTION:Spanish Speaking Community Fundraiser\nSaturday\, August 16\, 2025  @ 12pm\n1601 South Harbor Blvd.\, Oxnard CA 93035 \nCLICK HERE FOR DETAILS \nFor more info contact Maria @ 805-360-2213 or Isabel @ 805-827-5521
URL:https://alanonventura.org/event/spanish-speaking-community-fundraiser/
LOCATION:CA
CATEGORIES:VCAAC
ATTACH;FMTTYPE=image/jpeg:https://alanonventura.org/wp-content/uploads/2025/08/IMG_7644.jpg
END:VEVENT
BEGIN:VEVENT
DTSTART;VALUE=DATE:20250816
DTEND;VALUE=DATE:20250817
DTSTAMP:20260423T110000
CREATED:20250731T215127Z
LAST-MODIFIED:20250812T212425Z
UID:10123-1755302400-1755388799@alanonventura.org
SUMMARY:VOLUNTEERS NEEDED - Ventura County Pride Festival
DESCRIPTION:VOLUNTEERS NEEDED for the Ventura County Pride Festival\nSaturday\, August 16\, 2025 from 11am – 6pm\n651 E Thomspon Blvd\, Ventura\, CA 93001 \nCLICK HERE FOR DETAILS \nFor more info contact Shelly @ 805-816-8569
URL:https://alanonventura.org/event/volunteers-needed-ventura-county-pride-festival/
LOCATION:CA
CATEGORIES:VCAAC
ATTACH;FMTTYPE=image/jpeg:https://alanonventura.org/wp-content/uploads/2025/07/Blue-Bold-We-Are-Open-Pride-Flyer-scaled.jpg
END:VEVENT
BEGIN:VEVENT
DTSTART;VALUE=DATE:20250814
DTEND;VALUE=DATE:20250819
DTSTAMP:20260423T110000
CREATED:20250814T224219Z
LAST-MODIFIED:20250814T224219Z
UID:10184-1755129600-1755561599@alanonventura.org
SUMMARY:VCAAC Al-Anon Luncheon Sales End 8/17! Volunteers Needed!
DESCRIPTION:Online registration and ticket sales for the Al-Anon luncheon close at midnight 8/17 so don’t miss out!\n45th VCAAC with Al-Anon Participation\n9/5-9/7 at the Hyatt Regency in Westlake Village \nREGISTER HERE \nVOLUNTEER HERE
URL:https://alanonventura.org/event/vcaac-al-anon-luncheon-sales-end-8-17-volunteers-needed/
LOCATION:CA
ATTACH;FMTTYPE=image/jpeg:https://alanonventura.org/wp-content/uploads/2025/05/2025-VCAAC-Al-Anon-8-17-Close-1-1-scaled.jpg
END:VEVENT
BEGIN:VEVENT
DTSTART;VALUE=DATE:20250814
DTEND;VALUE=DATE:20250908
DTSTAMP:20260423T110000
CREATED:20250515T220653Z
LAST-MODIFIED:20250814T223251Z
UID:9859-1755129600-1757289599@alanonventura.org
SUMMARY:45th Annual Ventura County AA Convention
DESCRIPTION:Join us for a weekend of fellowship and recovery!\n45th Annual Ventura County AA Convention with Al-Anon Participation\nWhen: September 5th\, 6th\, and 7th 12th\, 2025\nWhere: Hyatt Regency\, Westlake Village\, CA\n880 S Westlake Blvd\, Westlake Village\, CA 91361 \nRegister Now! \nCLICK HERE FOR MORE INFO \nCLICK HERE TO REGISTER \nAnd remember\, Al-Anon’s participation relies on VOLUNTEERS LIKE YOU – easy one-hour shifts for the Country Store\, Greeters\, Literature\, Registration\, and Security. CLICK HERE TO VOLUNTEER\nQuestions? Contact Leigh H. 818.522.5211 or Sara R. 805.750.4545 \n  \n*Please note: if you are experiencing financial hardships\, a limited number of scholarships are available at the Registration table at the entrance to the convention.
URL:https://alanonventura.org/event/45th-annual-ventura-county-aa-convention/
LOCATION:CA
CATEGORIES:VCAAC
ATTACH;FMTTYPE=image/jpeg:https://alanonventura.org/wp-content/uploads/2025/05/2025-VCAAC-Al-Anon-8-17-Close-1-1-scaled.jpg
END:VEVENT
BEGIN:VEVENT
DTSTART;VALUE=DATE:20250804
DTEND;VALUE=DATE:20250908
DTSTAMP:20260423T110000
CREATED:20250804T213426Z
LAST-MODIFIED:20250804T213426Z
UID:10135-1754265600-1757289599@alanonventura.org
SUMMARY:DONATIONS NEEDED for the VCAAC 2025 Country Store
DESCRIPTION:DONATIONS NEEDED for the 2025 Ventura County AA Convention Country Store \n2025 Ventura County AA Convention \nSeptember 5\, 6\, 7 \nHyatt Regency\, Westlake Village\, CA \nHandcrafted Items and Program Related Materials \nCLICK HERE FOR INFO \nContact Janis B. to Donate 805-490-1748
URL:https://alanonventura.org/event/donations-needed-for-the-vcaac-2025-country-store/
LOCATION:Hyatt Regency Westlake\, 880 S. Westlake Blvd.\, westlake village\, CA\, 91361
CATEGORIES:VCAAC
ATTACH;FMTTYPE=image/jpeg:https://alanonventura.org/wp-content/uploads/2025/08/2025-VCAAC-Country-Store.jpg
ORGANIZER;CN="Al-Anon/Alateen Ventura County":MAILTO:info@alanonventura.org
END:VEVENT
BEGIN:VEVENT
DTSTART;TZID=America/Los_Angeles:20250712T130000
DTEND;TZID=America/Los_Angeles:20250712T160000
DTSTAMP:20260423T110000
CREATED:20250515T203831Z
LAST-MODIFIED:20250625T201322Z
UID:9849-1752325200-1752336000@alanonventura.org
SUMMARY:CHILI COOK-OFF Fundraiser
DESCRIPTION:2025 CHILI COOK-OFF Fundraiser \nWhen: Saturday\, July 12th\, 2025\, 1:00pm to 4:00pm\nWhere: Conejo Creek North Park Lakeside Pavilion\n1379 E. Janss Rd.\, Thousand Oaks\, CA 91362 \nAdults: $20 Kids 10 & under: $5 \nCLICK HERE FOR MORE INFO
URL:https://alanonventura.org/event/chili-cook-off-fundraiser/
LOCATION:CA
CATEGORIES:VCAAC
ATTACH;FMTTYPE=image/jpeg:https://alanonventura.org/wp-content/uploads/2025/05/2025-Chili-Cookoff-JPG.jpg
END:VEVENT
BEGIN:VEVENT
DTSTART;VALUE=DATE:20250707
DTEND;VALUE=DATE:20250708
DTSTAMP:20260423T110000
CREATED:20250703T211824Z
LAST-MODIFIED:20251014T210252Z
UID:10023-1751846400-1751932799@alanonventura.org
SUMMARY:Global Reach Foundation Spanish Meetings
DESCRIPTION:Global Reach Foundation Spanish Meetings\nWhen: Mondays 5p-6p (Todos los lunes)\nWhere: 432 N Ventura Ave. #97\, Ventura\, CA 93001 \nCLICK HERE FOR GLOBAL REACH INFO \nCLICK HERE FOR MEETING FLYER \nFor Details Contact: \n805-707-3855
URL:https://alanonventura.org/event/global-reach-foundation-spanish-meetings/
LOCATION:CA
CATEGORIES:VCAAC
ATTACH;FMTTYPE=image/jpeg:https://alanonventura.org/wp-content/uploads/2025/07/Al-Anon_Espanol.jpg
END:VEVENT
BEGIN:VEVENT
DTSTART;TZID=America/Los_Angeles:20250614T173000
DTEND;TZID=America/Los_Angeles:20250614T213000
DTSTAMP:20260423T110000
CREATED:20250316T234409Z
LAST-MODIFIED:20250625T203209Z
UID:9650-1749922200-1749936600@alanonventura.org
SUMMARY:VCAAC Bingo Fundraiser
DESCRIPTION:VCAAC Bingo Fundraiser \nWhen: Saturday\, June 14th\, 2025\, 5:30pm to 9:30pm\nWhere: Goebel Adult Community Center\n1385 E. Janss Rd.\, Thousand Oaks\, CA 91362 \n$35 Buy In \nCLICK HERE TO REGISTER
URL:https://alanonventura.org/event/vcaac-bingo-fundraiser/
LOCATION:CA
ATTACH;FMTTYPE=image/jpeg:https://alanonventura.org/wp-content/uploads/2025/05/IMG_5887.jpeg
END:VEVENT
END:VCALENDAR